BEGIN:VCALENDAR
PRODID:-//PUBBLE//agenda//NL
VERSION:2.0
METHOD:PUBLISH
BEGIN:VEVENT
DTSTART:20260918T173000Z
DTEND:20260918T213000Z
DTSTAMP:20260425T220751Z
UID:8440e835-71e7-4574-b8fb-bb8e116f2802
CREATED:20260425T220751Z
NAME:The Tangent streekbladzoetermeer.nl
X-WR-CALNAME:The Tangent
X-ALT-DESC;FMTTYPE=text/html:<a href='/agenda/2026/9/18/the-tangent-166672'>/agenda/2026/9/18/the-tangent-166672</a> || <p>The Tangent is een progressieve rockband uit Engeland die al bijna een kwart eeuw actief is. Met hun veertiende studioalbum, dat dit jaar verschijnt, blijven ze opvallend productief.</p><p>De band staat bekend om lange, epische composities en een brede mix van invloeden binnen en buiten het prog-genre, waaronder metal, jazz, klassiek, funk en zelfs dance en disco. Dat resulteert in een eigenzinnig maar duidelijk progressief geluid. De teksten zijn inhoudelijk en sterk verbonden met de realiteit - ‘geen orks en hobbits’ is al sinds het begin een vaste regel.&nbsp;</p><p>The Tangent gelooft dat progressieve muziek thuishoort in het heden, net zo goed als in de jaren zeventig. Sinds de oprichting in 2002 heeft de band diverse bezettingswisselingen gekend, maar de huidige line-up is stevig verankerd. The Tangent bestaat nu uit Andy Tillison (toetsen en zang), Luke Machin (gitaar), Steve Roberts (drums) en John Jowitt (bas). Op plaat is ook Theo Travis te horen op saxofoon en fluit; tijdens deze concerten worden zijn partijen verdeeld, met Rob Groucutt als extra toetsenist.</p>
DESCRIPTION:<a href='/agenda/2026/9/18/the-tangent-166672'>/agenda/2026/9/18/the-tangent-166672</a> || <p>The Tangent is een progressieve rockband uit Engeland die al bijna een kwart eeuw actief is. Met hun veertiende studioalbum, dat dit jaar verschijnt, blijven ze opvallend productief.</p><p>De band staat bekend om lange, epische composities en een brede mix van invloeden binnen en buiten het prog-genre, waaronder metal, jazz, klassiek, funk en zelfs dance en disco. Dat resulteert in een eigenzinnig maar duidelijk progressief geluid. De teksten zijn inhoudelijk en sterk verbonden met de realiteit - ‘geen orks en hobbits’ is al sinds het begin een vaste regel.&nbsp;</p><p>The Tangent gelooft dat progressieve muziek thuishoort in het heden, net zo goed als in de jaren zeventig. Sinds de oprichting in 2002 heeft de band diverse bezettingswisselingen gekend, maar de huidige line-up is stevig verankerd. The Tangent bestaat nu uit Andy Tillison (toetsen en zang), Luke Machin (gitaar), Steve Roberts (drums) en John Jowitt (bas). Op plaat is ook Theo Travis te horen op saxofoon en fluit; tijdens deze concerten worden zijn partijen verdeeld, met Rob Groucutt als extra toetsenist.</p>
LAST-MODIFIED:20260425T220751Z
LOCATION: Poppodium Boerderij | Amerikaweg 145 Zoetermeer
SEQUENCE:0
STATUS:CONFIRMED
SUMMARY:The Tangent
TRANSP:OPAQUE
END:VEVENT
END:VCALENDAR
