BEGIN:VCALENDAR
PRODID:-//PUBBLE//agenda//NL
VERSION:2.0
METHOD:PUBLISH
BEGIN:VEVENT
DTSTART:20261204T173000Z
DTEND:20261204T213000Z
DTSTAMP:20260426T000639Z
UID:eb6710c3-9749-4d70-8fa4-f00546fb9351
CREATED:20260426T000639Z
NAME:Ray Wilson streekbladzoetermeer.nl
X-WR-CALNAME:Ray Wilson
X-ALT-DESC;FMTTYPE=text/html:<a href='/agenda/2026/12/4/ray-wilson-166670'>/agenda/2026/12/4/ray-wilson-166670</a> || <p>Ray Wilson wordt beschouwd als een van de meest gerespecteerde zangers binnen de progressieve rockscene. Classic Rock Magazine bekroonde hem bovendien met de titel ‘Beste Britse Vocalist’.</p><p>Zijn carrière nam een vlucht als zanger van de grungeband Stiltskin, waarmee hij een grote hit scoorde met Inside. Later volgde hij Phil Collins op als frontman van Genesis. Na het uiteenvallen van de band richtte Ray zich volledig op een succesvolle solocarrière. Toch blijft zijn liefde voor Genesis onverminderd groot. Tijdens zijn liveoptredens brengt hij dan ook een bijzondere mix van Genesis-klassiekers, eigen werk en uiteraard Inside.</p>
DESCRIPTION:<a href='/agenda/2026/12/4/ray-wilson-166670'>/agenda/2026/12/4/ray-wilson-166670</a> || <p>Ray Wilson wordt beschouwd als een van de meest gerespecteerde zangers binnen de progressieve rockscene. Classic Rock Magazine bekroonde hem bovendien met de titel ‘Beste Britse Vocalist’.</p><p>Zijn carrière nam een vlucht als zanger van de grungeband Stiltskin, waarmee hij een grote hit scoorde met Inside. Later volgde hij Phil Collins op als frontman van Genesis. Na het uiteenvallen van de band richtte Ray zich volledig op een succesvolle solocarrière. Toch blijft zijn liefde voor Genesis onverminderd groot. Tijdens zijn liveoptredens brengt hij dan ook een bijzondere mix van Genesis-klassiekers, eigen werk en uiteraard Inside.</p>
LAST-MODIFIED:20260426T000639Z
LOCATION: Poppodium Boerderij | Amerikaweg 145 Zoetermeer
SEQUENCE:0
STATUS:CONFIRMED
SUMMARY:Ray Wilson
TRANSP:OPAQUE
END:VEVENT
END:VCALENDAR
