BEGIN:VCALENDAR
PRODID:-//PUBBLE//agenda//NL
VERSION:2.0
METHOD:PUBLISH
BEGIN:VEVENT
DTSTART:20260501T173000Z
DTEND:20260501T213000Z
DTSTAMP:20260425T220831Z
UID:ff36d31e-9afe-4728-9e76-af1c3998f53d
CREATED:20260425T220831Z
NAME:Sanctuary streekbladzoetermeer.nl
X-WR-CALNAME:Sanctuary
X-ALT-DESC;FMTTYPE=text/html:<a href='/agenda/2026/5/1/sanctuary-166669'>/agenda/2026/5/1/sanctuary-166669</a> || <p><strong>Sanctuary&nbsp;</strong>ontstond in de jaren tachtig in de heavymetal scene van Seattle. Met Joseph Michael als zanger (sinds 2018) presenteert de band een krachtige, herkenbare én vernieuwende sound, die&nbsp;zowel oude als nieuwe fans aanspreekt.</p><p>De muzikale carrière van Sanctuary begon al sterk in ‘88 met hun debuutalbum Refuge Denied, dat geproduceerd werd door Megadeth-frontman Dave Mustaine. In 1990 kwam daar hun meer verfijnde en donkere meesterwerk Into The Mirror Black bij en in 2011 The Year The Sun Died. Nadat in 2017 zanger Warrel Dane overleed, riep Sanctuary de hulp van zanger Joseph Michael (Witherfall) in voor een tribute tour. Door de overweldigend positieve reacties besloot de band met Joseph door te gaan en aan nieuw materiaal te gaan werken.</p><p><strong>Support: Martyr</strong></p><p>Martyr is een Nederlandse metalband uit de jaren tachtig, bekend om hun energieke liveshows. Met het zevende studioalbum Dark Believer (2025) bevestigt de Utrechtse band opnieuw hun vaste positie in de metalscene.</p>
DESCRIPTION:<a href='/agenda/2026/5/1/sanctuary-166669'>/agenda/2026/5/1/sanctuary-166669</a> || <p><strong>Sanctuary&nbsp;</strong>ontstond in de jaren tachtig in de heavymetal scene van Seattle. Met Joseph Michael als zanger (sinds 2018) presenteert de band een krachtige, herkenbare én vernieuwende sound, die&nbsp;zowel oude als nieuwe fans aanspreekt.</p><p>De muzikale carrière van Sanctuary begon al sterk in ‘88 met hun debuutalbum Refuge Denied, dat geproduceerd werd door Megadeth-frontman Dave Mustaine. In 1990 kwam daar hun meer verfijnde en donkere meesterwerk Into The Mirror Black bij en in 2011 The Year The Sun Died. Nadat in 2017 zanger Warrel Dane overleed, riep Sanctuary de hulp van zanger Joseph Michael (Witherfall) in voor een tribute tour. Door de overweldigend positieve reacties besloot de band met Joseph door te gaan en aan nieuw materiaal te gaan werken.</p><p><strong>Support: Martyr</strong></p><p>Martyr is een Nederlandse metalband uit de jaren tachtig, bekend om hun energieke liveshows. Met het zevende studioalbum Dark Believer (2025) bevestigt de Utrechtse band opnieuw hun vaste positie in de metalscene.</p>
LAST-MODIFIED:20260425T220831Z
LOCATION: Poppodium Boerderij | Amerikaweg 145 Zoetermeer
SEQUENCE:0
STATUS:CONFIRMED
SUMMARY:Sanctuary
TRANSP:OPAQUE
END:VEVENT
END:VCALENDAR
