BEGIN:VCALENDAR
PRODID:-//PUBBLE//agenda//NL
VERSION:2.0
METHOD:PUBLISH
BEGIN:VEVENT
DTSTART:20260201T100000Z
DTEND:20260201T110000Z
DTSTAMP:20260423T224712Z
UID:794f6a50-b3de-400e-bcaa-e275f8f38133
CREATED:20260423T224712Z
NAME:Duo Snaterse & Witteveen - Het Klassieke Uurtje streekbladzoetermeer.nl
X-WR-CALNAME:Duo Snaterse & Witteveen - Het Klassieke Uurtje
X-ALT-DESC;FMTTYPE=text/html:<a href='/agenda/2026/2/1/duo-snaterse-witteveen-het-klassieke-uurtje-166585'>/agenda/2026/2/1/duo-snaterse-witteveen-het-klassieke-uurtje-166585</a> || <p>Gemini</p><p>Op avontuur met Two Fantastics</p><p>Gemini, een programma dat de luisteraar meeneemt op een muzikaal avontuur met twee legendarische helden, Castor en Pollux. De saxofoon en piano vertolken de mythische verhalen van deze onafscheidelijke tweeling en representeren op muzikale wijze de twee heldere sterren in het heelal.</p><p>DUO SNATERSE &amp; WITTEVEEN</p><p>Het duo Snaterse &amp; Witteveen bestaat sinds 2015. Waar het samenspelen ooit begon met een tour naar Griekenland op uitnodiging van de Nederlandse Ambassade als twee jonge talenten, is dit sindsdien gegroeid tot een professionele en sterke samenwerking met door de jaren heen diverse concerten, uitvoeringen en erkenningen als resultaat. Hun kracht ligt in het combineren van een grote verscheidenheid aan saxofoon en piano repertoire, waarbij aandacht wordt geschonken aan zowel traditionele werken als vernieuwende muziek. Op het podium staan twee sterke individuele karakters die in hun samenspel elkaar weten uit te dagen en aan te vullen. Naast dat de uitvoerenden als duo actief zijn, volgt ieder ook een eigen muzikale pad.</p>
DESCRIPTION:<a href='/agenda/2026/2/1/duo-snaterse-witteveen-het-klassieke-uurtje-166585'>/agenda/2026/2/1/duo-snaterse-witteveen-het-klassieke-uurtje-166585</a> || <p>Gemini</p><p>Op avontuur met Two Fantastics</p><p>Gemini, een programma dat de luisteraar meeneemt op een muzikaal avontuur met twee legendarische helden, Castor en Pollux. De saxofoon en piano vertolken de mythische verhalen van deze onafscheidelijke tweeling en representeren op muzikale wijze de twee heldere sterren in het heelal.</p><p>DUO SNATERSE &amp; WITTEVEEN</p><p>Het duo Snaterse &amp; Witteveen bestaat sinds 2015. Waar het samenspelen ooit begon met een tour naar Griekenland op uitnodiging van de Nederlandse Ambassade als twee jonge talenten, is dit sindsdien gegroeid tot een professionele en sterke samenwerking met door de jaren heen diverse concerten, uitvoeringen en erkenningen als resultaat. Hun kracht ligt in het combineren van een grote verscheidenheid aan saxofoon en piano repertoire, waarbij aandacht wordt geschonken aan zowel traditionele werken als vernieuwende muziek. Op het podium staan twee sterke individuele karakters die in hun samenspel elkaar weten uit te dagen en aan te vullen. Naast dat de uitvoerenden als duo actief zijn, volgt ieder ook een eigen muzikale pad.</p>
LAST-MODIFIED:20260423T224712Z
LOCATION: Stadstheater | 10 Theaterplein Zoetermeer
SEQUENCE:0
STATUS:CONFIRMED
SUMMARY:Duo Snaterse & Witteveen - Het Klassieke Uurtje
TRANSP:OPAQUE
END:VEVENT
END:VCALENDAR
