BEGIN:VCALENDAR
PRODID:-//PUBBLE//agenda//NL
VERSION:2.0
METHOD:PUBLISH
BEGIN:VEVENT
DTSTART:20261128T173000Z
DTEND:20261128T213000Z
DTSTAMP:20260426T000404Z
UID:07839d0e-0706-4959-8759-6ef83ac7a62d
CREATED:20260426T000404Z
NAME:Arena - The Farewell Damian Wilson Tour streekbladzoetermeer.nl
X-WR-CALNAME:Arena - The Farewell Damian Wilson Tour
X-ALT-DESC;FMTTYPE=text/html:<a href='/agenda/2026/11/28/arena-the-farewell-damian-wilson-tour-166315'>/agenda/2026/11/28/arena-the-farewell-damian-wilson-tour-166315</a> || <p>Zanger Damian Wilson heeft besloten aan het einde van het jaar te stoppen bij Arena. Voor zijn afscheid geeft de band nog een laatste reeks shows met hem - een unieke kans om zijn onvergetelijke stem live samen met Arena mee te maken. Dit zijn slechts 4 concerten waarvan het concert in de Boerderij de enige show in Nederland is!<br><br></p><p>Al meer dan drie decennia creëert Arena indrukwekkende, complexe progressieve rock. Met meeslepende melodieën, technisch meesterlijke composities en onvergetelijke live-shows heeft de band zich stevig gevestigd als een van de meest gerespecteerde namen binnen het genre.</p>
DESCRIPTION:<a href='/agenda/2026/11/28/arena-the-farewell-damian-wilson-tour-166315'>/agenda/2026/11/28/arena-the-farewell-damian-wilson-tour-166315</a> || <p>Zanger Damian Wilson heeft besloten aan het einde van het jaar te stoppen bij Arena. Voor zijn afscheid geeft de band nog een laatste reeks shows met hem - een unieke kans om zijn onvergetelijke stem live samen met Arena mee te maken. Dit zijn slechts 4 concerten waarvan het concert in de Boerderij de enige show in Nederland is!<br><br></p><p>Al meer dan drie decennia creëert Arena indrukwekkende, complexe progressieve rock. Met meeslepende melodieën, technisch meesterlijke composities en onvergetelijke live-shows heeft de band zich stevig gevestigd als een van de meest gerespecteerde namen binnen het genre.</p>
LAST-MODIFIED:20260426T000404Z
LOCATION: Poppodium Boerderij | Amerikaweg 145 Zoetermeer
SEQUENCE:0
STATUS:CONFIRMED
SUMMARY:Arena - The Farewell Damian Wilson Tour
TRANSP:OPAQUE
END:VEVENT
END:VCALENDAR
