BEGIN:VCALENDAR
PRODID:-//PUBBLE//agenda//NL
VERSION:2.0
METHOD:PUBLISH
BEGIN:VEVENT
DTSTART:20260626T173000Z
DTEND:20260626T213000Z
DTSTAMP:20260425T220609Z
UID:3d08b589-c6fb-4eae-93f3-ff816a337c3c
CREATED:20260425T220609Z
NAME:Franck Carducci & The Fantastic Squad streekbladzoetermeer.nl
X-WR-CALNAME:Franck Carducci & The Fantastic Squad
X-ALT-DESC;FMTTYPE=text/html:<a href='/agenda/2026/6/26/franck-carducci-the-fantastic-squad-166314'>/agenda/2026/6/26/franck-carducci-the-fantastic-squad-166314</a> || <p>Met hun theatrale rockshow trekken ze door heel Europa, weten ze elk publiek te betoveren, overstijgen ze genres en oogsten ze unanieme lof bij elk optreden.FRANCK CARDUCCI &amp; THE FANTASTIC SQUAD biedt geen gewoon concert, maar een complete ervaring, met authentieke seventies rock die doet denken aan Pink Floyd, Supertramp en Led Zeppelin.<br><br></p><p>Hun muziek beweegt moeiteloos van krachtige, energieke passages naar sfeervolle, dromerige momenten… een garantie voor een magische reis! Maar dit is veel meer dan alleen muziek. FRANCK CARDUCCI &amp; THE FANTASTIC SQUAD presenteren een complete show, vol kostuums, decor, humor, verhalen en fantasierijke instrumenten. Je zintuigen krijgen geen moment rust: je trilt, je verwondert je en je geniet volop! Het is een unieke, gulle, feestelijke, fonkelende en glamoureuze show die elk publiek weet te veroveren.</p><p>Steve Hackett, gitarist van Genesis, steunt hen al sinds 2010 en speelde zelfs mee op hun tweede album in 2015 en ze waren voorprogramma van Sting.&nbsp;</p><p>Support: That Joe Payne</p>
DESCRIPTION:<a href='/agenda/2026/6/26/franck-carducci-the-fantastic-squad-166314'>/agenda/2026/6/26/franck-carducci-the-fantastic-squad-166314</a> || <p>Met hun theatrale rockshow trekken ze door heel Europa, weten ze elk publiek te betoveren, overstijgen ze genres en oogsten ze unanieme lof bij elk optreden.FRANCK CARDUCCI &amp; THE FANTASTIC SQUAD biedt geen gewoon concert, maar een complete ervaring, met authentieke seventies rock die doet denken aan Pink Floyd, Supertramp en Led Zeppelin.<br><br></p><p>Hun muziek beweegt moeiteloos van krachtige, energieke passages naar sfeervolle, dromerige momenten… een garantie voor een magische reis! Maar dit is veel meer dan alleen muziek. FRANCK CARDUCCI &amp; THE FANTASTIC SQUAD presenteren een complete show, vol kostuums, decor, humor, verhalen en fantasierijke instrumenten. Je zintuigen krijgen geen moment rust: je trilt, je verwondert je en je geniet volop! Het is een unieke, gulle, feestelijke, fonkelende en glamoureuze show die elk publiek weet te veroveren.</p><p>Steve Hackett, gitarist van Genesis, steunt hen al sinds 2010 en speelde zelfs mee op hun tweede album in 2015 en ze waren voorprogramma van Sting.&nbsp;</p><p>Support: That Joe Payne</p>
LAST-MODIFIED:20260425T220609Z
LOCATION: Poppodium Boerderij | Amerikaweg 145 Zoetermeer
SEQUENCE:0
STATUS:CONFIRMED
SUMMARY:Franck Carducci & The Fantastic Squad
TRANSP:OPAQUE
END:VEVENT
END:VCALENDAR
