BEGIN:VCALENDAR
PRODID:-//PUBBLE//agenda//NL
VERSION:2.0
METHOD:PUBLISH
BEGIN:VEVENT
DTSTART:20261027T173000Z
DTEND:20261026T230000Z
DTSTAMP:20260426T000818Z
UID:e09fe277-6f8b-45b1-a45c-d85e3635dc2e
CREATED:20260426T000818Z
NAME:Geoff Tate’s Operation Mindcrime: The Final Chapter streekbladzoetermeer.nl
X-WR-CALNAME:Geoff Tate’s Operation Mindcrime: The Final Chapter
X-ALT-DESC;FMTTYPE=text/html:<a href='/agenda/2026/10/27/geoff-tates-operation-mindcrime-the-final-chapter-166075'>/agenda/2026/10/27/geoff-tates-operation-mindcrime-the-final-chapter-166075</a> || <p>Multi-platina artiest en Grammy-genomineerde zanger/songwriter Geoff Tate is vooral bekend als de creatieve kracht achter de progressieve metalband Queensrÿche, waarmee hij wereldwijd meer dan 20 miljoen albums verkocht en in meer dan vijftig landen optrad. Hij geldt als een van de meest invloedrijke en bekwame vocalisten binnen het genre.</p><p>Operation Mindcrime: The Final Chapter is een unieke live-ervaring waarin Geoff Tate het iconische album Operation: Mindcrime integraal uitvoert. Tijdens deze speciale tour komt het epische verhaal van revolutie, verraad en verlossing nog één laatste keer tot leven in een krachtige en meeslepende show. Mis dit monumentale moment in de rockgeschiedenis niet.</p>
DESCRIPTION:<a href='/agenda/2026/10/27/geoff-tates-operation-mindcrime-the-final-chapter-166075'>/agenda/2026/10/27/geoff-tates-operation-mindcrime-the-final-chapter-166075</a> || <p>Multi-platina artiest en Grammy-genomineerde zanger/songwriter Geoff Tate is vooral bekend als de creatieve kracht achter de progressieve metalband Queensrÿche, waarmee hij wereldwijd meer dan 20 miljoen albums verkocht en in meer dan vijftig landen optrad. Hij geldt als een van de meest invloedrijke en bekwame vocalisten binnen het genre.</p><p>Operation Mindcrime: The Final Chapter is een unieke live-ervaring waarin Geoff Tate het iconische album Operation: Mindcrime integraal uitvoert. Tijdens deze speciale tour komt het epische verhaal van revolutie, verraad en verlossing nog één laatste keer tot leven in een krachtige en meeslepende show. Mis dit monumentale moment in de rockgeschiedenis niet.</p>
LAST-MODIFIED:20260426T000818Z
LOCATION: Poppodium Boerderij | Amerikaweg 145 Zoetermeer
SEQUENCE:0
STATUS:CONFIRMED
SUMMARY:Geoff Tate’s Operation Mindcrime: The Final Chapter
TRANSP:OPAQUE
END:VEVENT
END:VCALENDAR
