BEGIN:VCALENDAR
PRODID:-//PUBBLE//agenda//NL
VERSION:2.0
METHOD:PUBLISH
BEGIN:VEVENT
DTSTART:20260925T173000Z
DTEND:20260924T230000Z
DTSTAMP:20260426T000535Z
UID:15641be9-8671-4d23-8ce9-4dd9060af687
CREATED:20260426T000535Z
NAME:In The Flesh? - The Dutch Pink Floyd streekbladzoetermeer.nl
X-WR-CALNAME:In The Flesh? - The Dutch Pink Floyd
X-ALT-DESC;FMTTYPE=text/html:<a href='/agenda/2026/9/25/in-the-flesh-the-dutch-pink-floyd-166074'>/agenda/2026/9/25/in-the-flesh-the-dutch-pink-floyd-166074</a> || <p>Deze indrukwekkende Pink Floyd-tribute neemt je mee terug naar de jaren 70 - voor velen de absolute hoogtijdagen van de band. Lang uitgesponnen, psychedelische composities worden moeiteloos afgewisseld met iconische hits van legendarische albums als&nbsp;Wish You Were Here,&nbsp;The Dark Side of the Moon&nbsp;en&nbsp;The Wall.&nbsp;Sluit je ogen… en hoor Pink Floyd:&nbsp;IN THE FLESH?</p><p>De muzikanten, bekend van onder andere Her Majesty, Navarone, Adrian Vandenberg, Anneke van Giersbergen, The Fortunate Sons en BZB, vonden elkaar in hun gedeelde liefde voor Pink Floyd. Samen benaderen zij het originele geluid zó overtuigend, dat het publiek zich volledig onderdompelt in de sfeer van toen. Sluit je ogen en waan je weer in de jaren 70.Bezetting: Bauke Bakker (drums/zang), Arn Kortooms (bas/zang), Kees Lewiszong (gitaar/zang), Matthijs van Beek (gitaar/zang), Len van de Laak (toetsen) en Robert van Asseldonk (saxofoon).</p>
DESCRIPTION:<a href='/agenda/2026/9/25/in-the-flesh-the-dutch-pink-floyd-166074'>/agenda/2026/9/25/in-the-flesh-the-dutch-pink-floyd-166074</a> || <p>Deze indrukwekkende Pink Floyd-tribute neemt je mee terug naar de jaren 70 - voor velen de absolute hoogtijdagen van de band. Lang uitgesponnen, psychedelische composities worden moeiteloos afgewisseld met iconische hits van legendarische albums als&nbsp;Wish You Were Here,&nbsp;The Dark Side of the Moon&nbsp;en&nbsp;The Wall.&nbsp;Sluit je ogen… en hoor Pink Floyd:&nbsp;IN THE FLESH?</p><p>De muzikanten, bekend van onder andere Her Majesty, Navarone, Adrian Vandenberg, Anneke van Giersbergen, The Fortunate Sons en BZB, vonden elkaar in hun gedeelde liefde voor Pink Floyd. Samen benaderen zij het originele geluid zó overtuigend, dat het publiek zich volledig onderdompelt in de sfeer van toen. Sluit je ogen en waan je weer in de jaren 70.Bezetting: Bauke Bakker (drums/zang), Arn Kortooms (bas/zang), Kees Lewiszong (gitaar/zang), Matthijs van Beek (gitaar/zang), Len van de Laak (toetsen) en Robert van Asseldonk (saxofoon).</p>
LAST-MODIFIED:20260426T000535Z
LOCATION: Poppodium Boerderij | Amerikaweg 145 Zoetermeer
SEQUENCE:0
STATUS:CONFIRMED
SUMMARY:In The Flesh? - The Dutch Pink Floyd
TRANSP:OPAQUE
END:VEVENT
END:VCALENDAR
