BEGIN:VCALENDAR
PRODID:-//PUBBLE//agenda//NL
VERSION:2.0
METHOD:PUBLISH
BEGIN:VEVENT
DTSTART:20261024T173000Z
DTEND:20261023T230000Z
DTSTAMP:20260426T000812Z
UID:7c358b6c-231d-4b41-a9a4-b19e2f8af012
CREATED:20260426T000812Z
NAME:Threshold streekbladzoetermeer.nl
X-WR-CALNAME:Threshold
X-ALT-DESC;FMTTYPE=text/html:<a href='/agenda/2026/10/24/threshold-166073'>/agenda/2026/10/24/threshold-166073</a> || <p>Threshold gaat op Europese tournee ter gelegenheid van het 25-jarig jubileum van hun baanbrekende album&nbsp;Hypothetical. Tijdens deze tour brengt de band het album&nbsp;integraal ten gehore. Fans kunnen zich dus verheugen op klassiekers als&nbsp;Light and Space, The Ravages of Time&nbsp;en&nbsp;Long Way Home.</p><p>Gitarist Karl Groom blikt terug: “Hypothetical was een bepalend album voor Threshold. Het markeerde het begin van een nieuwe fase, waarin Mac zijn plek in de band vond, en is in de loop der jaren uitgegroeid tot een echte klassieker. Om het 25-jarig bestaan te vieren, spelen we het album van begin tot eind live. Natuurlijk vullen we de set aan met extra nummers. We kijken er enorm naar uit om iedereen te zien!”</p>
DESCRIPTION:<a href='/agenda/2026/10/24/threshold-166073'>/agenda/2026/10/24/threshold-166073</a> || <p>Threshold gaat op Europese tournee ter gelegenheid van het 25-jarig jubileum van hun baanbrekende album&nbsp;Hypothetical. Tijdens deze tour brengt de band het album&nbsp;integraal ten gehore. Fans kunnen zich dus verheugen op klassiekers als&nbsp;Light and Space, The Ravages of Time&nbsp;en&nbsp;Long Way Home.</p><p>Gitarist Karl Groom blikt terug: “Hypothetical was een bepalend album voor Threshold. Het markeerde het begin van een nieuwe fase, waarin Mac zijn plek in de band vond, en is in de loop der jaren uitgegroeid tot een echte klassieker. Om het 25-jarig bestaan te vieren, spelen we het album van begin tot eind live. Natuurlijk vullen we de set aan met extra nummers. We kijken er enorm naar uit om iedereen te zien!”</p>
LAST-MODIFIED:20260426T000812Z
LOCATION: Poppodium Boerderij | Amerikaweg 145 Zoetermeer
SEQUENCE:0
STATUS:CONFIRMED
SUMMARY:Threshold
TRANSP:OPAQUE
END:VEVENT
END:VCALENDAR
