BEGIN:VCALENDAR
PRODID:-//PUBBLE//agenda//NL
VERSION:2.0
METHOD:PUBLISH
BEGIN:VEVENT
DTSTART:20260419T173000Z
DTEND:20260428T220000Z
DTSTAMP:20260425T201354Z
UID:426149bf-4760-4819-877a-b1a3d902e896
CREATED:20260425T201354Z
NAME:Gong streekbladzoetermeer.nl
X-WR-CALNAME:Gong
X-ALT-DESC;FMTTYPE=text/html:<a href='/agenda/2026/4/19/gong-166072'>/agenda/2026/4/19/gong-166072</a> || <p>Gong werd opgericht in 1969 door Daevid Allen (medeoprichter van Soft Machine)&nbsp;en groeide uit tot een van de meest eigenzinnige en invloedrijke bands uit de jaren zeventig. Met een avontuurlijke mix van rock, jazz en psychedelica bouwde Gong een geheel eigen wereld, waarin muzikale vrijheid en verbeeldingskracht centraal staan.&nbsp;Voor zijn laatste album met Gong,&nbsp;I See You, stelde Allen zelf de huidige bezetting samen, met de uitdrukkelijke wens dat de band na hem zou blijven doorgaan. Die missie wordt sindsdien met overtuiging voortgezet.</p><p>Met Kavus Torabi, Dave Sturt, Fabio Golfetti, Ian East en Cheb Nettles kent Gong vandaag de dag zijn meest stabiele samenstelling ooit. Al acht jaar zijn zij samen aan het schrijven, opnemen en touren. Live is Gong een energieke en meeslepende band, bekend om krachtige optredens en muzikale spanning. De groep eert de geest van de oorspronkelijke Gong, maar kijkt vooral vooruit: nieuwe muziek, nieuwe ideeën en geen plaats voor nostalgie. Gong blijft relevant, avontuurlijk en compromisloos - een band die blijft bewegen en verrassen.</p>
DESCRIPTION:<a href='/agenda/2026/4/19/gong-166072'>/agenda/2026/4/19/gong-166072</a> || <p>Gong werd opgericht in 1969 door Daevid Allen (medeoprichter van Soft Machine)&nbsp;en groeide uit tot een van de meest eigenzinnige en invloedrijke bands uit de jaren zeventig. Met een avontuurlijke mix van rock, jazz en psychedelica bouwde Gong een geheel eigen wereld, waarin muzikale vrijheid en verbeeldingskracht centraal staan.&nbsp;Voor zijn laatste album met Gong,&nbsp;I See You, stelde Allen zelf de huidige bezetting samen, met de uitdrukkelijke wens dat de band na hem zou blijven doorgaan. Die missie wordt sindsdien met overtuiging voortgezet.</p><p>Met Kavus Torabi, Dave Sturt, Fabio Golfetti, Ian East en Cheb Nettles kent Gong vandaag de dag zijn meest stabiele samenstelling ooit. Al acht jaar zijn zij samen aan het schrijven, opnemen en touren. Live is Gong een energieke en meeslepende band, bekend om krachtige optredens en muzikale spanning. De groep eert de geest van de oorspronkelijke Gong, maar kijkt vooral vooruit: nieuwe muziek, nieuwe ideeën en geen plaats voor nostalgie. Gong blijft relevant, avontuurlijk en compromisloos - een band die blijft bewegen en verrassen.</p>
LAST-MODIFIED:20260425T201354Z
LOCATION: Poppodium Boerderij | Amerikaweg 145 Zoetermeer
SEQUENCE:0
STATUS:CONFIRMED
SUMMARY:Gong
TRANSP:OPAQUE
END:VEVENT
END:VCALENDAR
