BEGIN:VCALENDAR
PRODID:-//PUBBLE//agenda//NL
VERSION:2.0
METHOD:PUBLISH
BEGIN:VEVENT
DTSTART:20260620T173000Z
DTEND:20260219T220000Z
DTSTAMP:20260425T220655Z
UID:886f3155-fc96-4262-a7a7-e6a85fc9b492
CREATED:20260425T220655Z
NAME:StationToStation - David Bowie Tribute streekbladzoetermeer.nl
X-WR-CALNAME:StationToStation - David Bowie Tribute
X-ALT-DESC;FMTTYPE=text/html:<a href='/agenda/2026/6/20/stationtostation-david-bowie-tribute-166071'>/agenda/2026/6/20/stationtostation-david-bowie-tribute-166071</a> || <p>Nu de huidige generatie Bowie-loos opgroeit, is het aan acts als StationToStation én aan ons om de muziek van David Bowie in leven te houden. In hun gloednieuwe Serious Moonlight show, voert de tijdmachine van StationToStation je mee terug naar 1983.&nbsp;</p><p>De band neemt het publiek mee door de verschillende Bowie-tijdperken, van de zijn vroege carrière tot aan Blackstar, met deze keer als hoofdstation Let’s Dance uit ‘83. Met een bak passie, authenticiteit en indrukwekkende visuals voert StationToStation een show op van en voor toegewijde Bowie fans. De frisse Nederlandse Bowie tribute zorgt dan ook dat alles klopt: de zang, de visuals, en natuurlijk de sound.&nbsp;</p>
DESCRIPTION:<a href='/agenda/2026/6/20/stationtostation-david-bowie-tribute-166071'>/agenda/2026/6/20/stationtostation-david-bowie-tribute-166071</a> || <p>Nu de huidige generatie Bowie-loos opgroeit, is het aan acts als StationToStation én aan ons om de muziek van David Bowie in leven te houden. In hun gloednieuwe Serious Moonlight show, voert de tijdmachine van StationToStation je mee terug naar 1983.&nbsp;</p><p>De band neemt het publiek mee door de verschillende Bowie-tijdperken, van de zijn vroege carrière tot aan Blackstar, met deze keer als hoofdstation Let’s Dance uit ‘83. Met een bak passie, authenticiteit en indrukwekkende visuals voert StationToStation een show op van en voor toegewijde Bowie fans. De frisse Nederlandse Bowie tribute zorgt dan ook dat alles klopt: de zang, de visuals, en natuurlijk de sound.&nbsp;</p>
LAST-MODIFIED:20260425T220655Z
LOCATION: Poppodium Boerderij | Amerikaweg 145 Zoetermeer
SEQUENCE:0
STATUS:CONFIRMED
SUMMARY:StationToStation - David Bowie Tribute
TRANSP:OPAQUE
END:VEVENT
END:VCALENDAR
