BEGIN:VCALENDAR
PRODID:-//PUBBLE//agenda//NL
VERSION:2.0
METHOD:PUBLISH
BEGIN:VEVENT
DTSTART:20261206T173000Z
DTEND:20261206T180000Z
DTSTAMP:20260426T000623Z
UID:6014a6e0-ee53-4978-956d-012d3918ce88
CREATED:20260426T000623Z
NAME:China Crsis streekbladzoetermeer.nl
X-WR-CALNAME:China Crsis
X-ALT-DESC;FMTTYPE=text/html:<a href='/agenda/2026/12/6/china-crsis-166068'>/agenda/2026/12/6/china-crsis-166068</a> || <p>In 2026 keert China Crisis terug met de&nbsp;Warped 2026 Tour;&nbsp;een reis door meer dan veertig jaar aan innovatieve popmuziek. Sinds hun doorbraak begin jaren tachtig in de Liverpoolse muziekscene staan Gary Daly en Eddie Lundon bekend om hun direct herkenbare en steeds evoluerende sound. Met tijdloze hits als&nbsp;Wishful Thinking,&nbsp;African and White&nbsp;en&nbsp;Arizona Sky&nbsp;én sterk nieuw werk bewijst de band nog altijd in topvorm te zijn.</p><p>Het meest recente werk van de band, waaronder de veelgeprezen albums Autumn in the Neighbourhood en China Greatness, bewijst dat hun muziek sterker dan ooit schittert en bevestigt opnieuw hun positie als pioniers, vernieuwers en makers van tijdloze songs. Op het podium blijven China Crisis echte originals: zij combineren klassiekers met nieuw werk, aangevuld met de humor en het hart die elke uitvoering onvergetelijk maken. De Warped 2026 Tour is niet alleen een viering van hun verleden – het is het bewijs van een band die nog altijd volop in creatieve topvorm verkeert.</p>
DESCRIPTION:<a href='/agenda/2026/12/6/china-crsis-166068'>/agenda/2026/12/6/china-crsis-166068</a> || <p>In 2026 keert China Crisis terug met de&nbsp;Warped 2026 Tour;&nbsp;een reis door meer dan veertig jaar aan innovatieve popmuziek. Sinds hun doorbraak begin jaren tachtig in de Liverpoolse muziekscene staan Gary Daly en Eddie Lundon bekend om hun direct herkenbare en steeds evoluerende sound. Met tijdloze hits als&nbsp;Wishful Thinking,&nbsp;African and White&nbsp;en&nbsp;Arizona Sky&nbsp;én sterk nieuw werk bewijst de band nog altijd in topvorm te zijn.</p><p>Het meest recente werk van de band, waaronder de veelgeprezen albums Autumn in the Neighbourhood en China Greatness, bewijst dat hun muziek sterker dan ooit schittert en bevestigt opnieuw hun positie als pioniers, vernieuwers en makers van tijdloze songs. Op het podium blijven China Crisis echte originals: zij combineren klassiekers met nieuw werk, aangevuld met de humor en het hart die elke uitvoering onvergetelijk maken. De Warped 2026 Tour is niet alleen een viering van hun verleden – het is het bewijs van een band die nog altijd volop in creatieve topvorm verkeert.</p>
LAST-MODIFIED:20260426T000623Z
LOCATION: Poppodium Boerderij | Amerikaweg 145 Zoetermeer
SEQUENCE:0
STATUS:CONFIRMED
SUMMARY:China Crsis
TRANSP:OPAQUE
END:VEVENT
END:VCALENDAR
