BEGIN:VCALENDAR
PRODID:-//PUBBLE//agenda//NL
VERSION:2.0
METHOD:PUBLISH
BEGIN:VEVENT
DTSTART:20260528T173000Z
DTEND:20260527T230000Z
DTSTAMP:20260425T220917Z
UID:71eba8f3-0b4a-4fec-94c7-a2a8a3191f8b
CREATED:20260425T220917Z
NAME:The Dave Weckl/Tom Kennedy Project streekbladzoetermeer.nl
X-WR-CALNAME:The Dave Weckl/Tom Kennedy Project
X-ALT-DESC;FMTTYPE=text/html:<a href='/agenda/2026/5/28/the-dave-weckl-tom-kennedy-project-166066'>/agenda/2026/5/28/the-dave-weckl-tom-kennedy-project-166066</a> || <p>The Dave Weckl/Tom Kennedy Project is een energieke jazz/fusion­band die het publiek meeneemt op een muzikale reis langs latin-, afro- en moderne jazzritmes: muziek die met elk moment verder tot bloei komt.The Dave Weckl/Tom Kennedy Project is een all-star fusionervaring met twee jazziconen en twee van de meest getalenteerde jonge muzikanten van dit moment; toetsenist Stu Mindeman en saxofonist Ryan Devlin. Vier topmusici die volop ruimte geven aan improvisatie, krachtige dynamiek en meeslepende ritmes, afgewisseld met melodische ideeën en lichte, luchtige klanken. Steeds voel je hun vastberaden zoektocht, niet naar effectbejag, maar naar de essentie van elke afzonderlijke noot. Na succesvolle tournees in de afgelopen jaren, waarin ze het album Stories uitvoerden, keert het project komende lente terug naar Europa om Tom Kennedy’s nieuwste album New Start te presenteren, opnieuw geproduceerd en gemixt door Dave Weckl.</p>
DESCRIPTION:<a href='/agenda/2026/5/28/the-dave-weckl-tom-kennedy-project-166066'>/agenda/2026/5/28/the-dave-weckl-tom-kennedy-project-166066</a> || <p>The Dave Weckl/Tom Kennedy Project is een energieke jazz/fusion­band die het publiek meeneemt op een muzikale reis langs latin-, afro- en moderne jazzritmes: muziek die met elk moment verder tot bloei komt.The Dave Weckl/Tom Kennedy Project is een all-star fusionervaring met twee jazziconen en twee van de meest getalenteerde jonge muzikanten van dit moment; toetsenist Stu Mindeman en saxofonist Ryan Devlin. Vier topmusici die volop ruimte geven aan improvisatie, krachtige dynamiek en meeslepende ritmes, afgewisseld met melodische ideeën en lichte, luchtige klanken. Steeds voel je hun vastberaden zoektocht, niet naar effectbejag, maar naar de essentie van elke afzonderlijke noot. Na succesvolle tournees in de afgelopen jaren, waarin ze het album Stories uitvoerden, keert het project komende lente terug naar Europa om Tom Kennedy’s nieuwste album New Start te presenteren, opnieuw geproduceerd en gemixt door Dave Weckl.</p>
LAST-MODIFIED:20260425T220917Z
LOCATION: Poppodium Boerderij | Amerikaweg 145 Zoetermeer
SEQUENCE:0
STATUS:CONFIRMED
SUMMARY:The Dave Weckl/Tom Kennedy Project
TRANSP:OPAQUE
END:VEVENT
END:VCALENDAR
