BEGIN:VCALENDAR
PRODID:-//PUBBLE//agenda//NL
VERSION:2.0
METHOD:PUBLISH
BEGIN:VEVENT
DTSTART:20260523T173000Z
DTEND:20260523T213000Z
DTSTAMP:20260425T220918Z
UID:135160c1-9a01-47c3-ad71-b6a0aa7e967e
CREATED:20260425T220918Z
NAME:Rockpommel’s Band streekbladzoetermeer.nl
X-WR-CALNAME:Rockpommel’s Band
X-ALT-DESC;FMTTYPE=text/html:<a href='/agenda/2026/5/23/rockpommels-band-165667'>/agenda/2026/5/23/rockpommels-band-165667</a> || <p>In 2012 gaf de populaire prog band Grobschnitt haar laatste optreden in volle elektrische bezetting. Dankzij zes voormalig leden van de band, is de muziek van Grobschnitt eindelijk terug. Dit is Rockpommel’s Band, met een exclusieve Nederlandse show. <br><br></p><p>Jaren lang stond Grobschnitt bekend voor hun psychedelische, progressieve en zelfs op hard rock geïnspireerde sound. Ze werden gezien als innovatieve groep, en presenteerde hun liveshow met een mix van theater, visuele effecten en lange muzikale improvisaties. Rockpommel’s Band (bestaand uit leden uit de originele lineup) brengt deze unieke sfeer van een liveshow terug naar het podium. En het album Rockpommel’s Land, spelen ze in het geheel live.</p>
DESCRIPTION:<a href='/agenda/2026/5/23/rockpommels-band-165667'>/agenda/2026/5/23/rockpommels-band-165667</a> || <p>In 2012 gaf de populaire prog band Grobschnitt haar laatste optreden in volle elektrische bezetting. Dankzij zes voormalig leden van de band, is de muziek van Grobschnitt eindelijk terug. Dit is Rockpommel’s Band, met een exclusieve Nederlandse show. <br><br></p><p>Jaren lang stond Grobschnitt bekend voor hun psychedelische, progressieve en zelfs op hard rock geïnspireerde sound. Ze werden gezien als innovatieve groep, en presenteerde hun liveshow met een mix van theater, visuele effecten en lange muzikale improvisaties. Rockpommel’s Band (bestaand uit leden uit de originele lineup) brengt deze unieke sfeer van een liveshow terug naar het podium. En het album Rockpommel’s Land, spelen ze in het geheel live.</p>
LAST-MODIFIED:20260425T220918Z
LOCATION: Poppodium Boerderij | Amerikaweg 145 Zoetermeer
SEQUENCE:0
STATUS:CONFIRMED
SUMMARY:Rockpommel’s Band
TRANSP:OPAQUE
END:VEVENT
END:VCALENDAR
