BEGIN:VCALENDAR
PRODID:-//PUBBLE//agenda//NL
VERSION:2.0
METHOD:PUBLISH
BEGIN:VEVENT
DTSTART:20261030T173000Z
DTEND:20261030T213000Z
DTSTAMP:20260426T000542Z
UID:97bce300-83e0-4300-8082-c49d904a0d6a
CREATED:20260426T000542Z
NAME:The Clarks ft. Rinus Gerritsen en Cesar Zuiderwijk streekbladzoetermeer.nl
X-WR-CALNAME:The Clarks ft. Rinus Gerritsen en Cesar Zuiderwijk
X-ALT-DESC;FMTTYPE=text/html:<a href='/agenda/2026/10/30/the-clarks-ft-rinus-gerritsen-en-cesar-zuiderwijk-164738'>/agenda/2026/10/30/the-clarks-ft-rinus-gerritsen-en-cesar-zuiderwijk-164738</a> || <p>The Clarks eren de muziek van Golden Earring met niemand minder dan Rinus Gerritsen en Cesar Zuiderwijk zelf! Deze originele Earring-leden staan deze avond samen met de Haagse rockband op het podium om klassiekers als Radar Love en Twilight Zone nieuw leven in te blazen.</p><p>The Clarks is een classic rockband uit Den Haag, bekend om hun energieke vertolkingen van iconische hits uit de jaren 70 en 80. Ze weten zowel nostalgie op te roepen als nieuwe generaties kennis te laten maken met de tijdloze klanken van de beste classic rock. De samenwerking met Rinus Gerritsen en Cesar Zuiderwijk is een uniek eerbetoon waarin de iconische nummers van Golden Earring klinken zoals toen, met de originele energie en bezieling. Je ervaart de kracht van de band die wereldwijd miljoenen fans heeft geïnspireerd, uitgevoerd door muzikanten die de muziek van dichtbij hebben meegemaakt.</p>
DESCRIPTION:<a href='/agenda/2026/10/30/the-clarks-ft-rinus-gerritsen-en-cesar-zuiderwijk-164738'>/agenda/2026/10/30/the-clarks-ft-rinus-gerritsen-en-cesar-zuiderwijk-164738</a> || <p>The Clarks eren de muziek van Golden Earring met niemand minder dan Rinus Gerritsen en Cesar Zuiderwijk zelf! Deze originele Earring-leden staan deze avond samen met de Haagse rockband op het podium om klassiekers als Radar Love en Twilight Zone nieuw leven in te blazen.</p><p>The Clarks is een classic rockband uit Den Haag, bekend om hun energieke vertolkingen van iconische hits uit de jaren 70 en 80. Ze weten zowel nostalgie op te roepen als nieuwe generaties kennis te laten maken met de tijdloze klanken van de beste classic rock. De samenwerking met Rinus Gerritsen en Cesar Zuiderwijk is een uniek eerbetoon waarin de iconische nummers van Golden Earring klinken zoals toen, met de originele energie en bezieling. Je ervaart de kracht van de band die wereldwijd miljoenen fans heeft geïnspireerd, uitgevoerd door muzikanten die de muziek van dichtbij hebben meegemaakt.</p>
LAST-MODIFIED:20260426T000542Z
LOCATION: Poppodium Boerderij | Amerikaweg 145 Zoetermeer
SEQUENCE:0
STATUS:CONFIRMED
SUMMARY:The Clarks ft. Rinus Gerritsen en Cesar Zuiderwijk
TRANSP:OPAQUE
END:VEVENT
END:VCALENDAR
