BEGIN:VCALENDAR
PRODID:-//PUBBLE//agenda//NL
VERSION:2.0
METHOD:PUBLISH
BEGIN:VEVENT
DTSTART:20260517T120000Z
DTEND:20260517T153000Z
DTSTAMP:20260425T220940Z
UID:36c95391-2fe8-452f-a02a-93578c1398b7
CREATED:20260425T220940Z
NAME:Blues op Zondagmiddag met Fat Harry & The Fuzzy Licks @Podiumcafé Boerderij streekbladzoetermeer.nl
X-WR-CALNAME:Blues op Zondagmiddag met Fat Harry & The Fuzzy Licks @Podiumcafé Boerderij
X-ALT-DESC;FMTTYPE=text/html:<a href='/agenda/2026/5/17/blues-op-zondagmiddag-met-fat-harry-the-fuzzy-licks-podiumcafe-boerderij-163277'>/agenda/2026/5/17/blues-op-zondagmiddag-met-fat-harry-the-fuzzy-licks-podiumcafe-boerderij-163277</a> || <p>Fat Harry &amp; The Fuzzy Licks brengen eigentijdse blues, stevig geworteld in traditie maar verrijkt met soul, funk en R&amp;B.</p><p>Geen wonder dat Amerikaanse grootheden hen keer op keer vroegen als begeleidingsband tijdens Europese tours. Zo speelde Harry zelfs regelmatig met zijn inspirator Joe Louis Walker, die later ook hun nummer Send You Back opnam.</p><p>De band werkte samen met namen als Preston Shannon, Henry Oden, Kat Riggins, John Primer en Robbin Kapsalis. In 2014 won saxofonist Jan de Ligt een Dutch Blues Award, en tot zijn plotselinge overlijden in 2024 was hij bijna 30 jaar lang een drijvende kracht binnen de band.</p><p>Vandaag zetten Fat Harry &amp; The Fuzzy Licks zijn erfenis voort met nieuw materiaal vol diversiteit en originals, aangevuld met toetsenist David Franco.</p><p>Line-up: Fat Harry Dorth – gitaar/zang; Jacco van den Heuvel – drums; David Franco – keyboards; Remko Deijl – bas; sax – t.b.a.</p>
DESCRIPTION:<a href='/agenda/2026/5/17/blues-op-zondagmiddag-met-fat-harry-the-fuzzy-licks-podiumcafe-boerderij-163277'>/agenda/2026/5/17/blues-op-zondagmiddag-met-fat-harry-the-fuzzy-licks-podiumcafe-boerderij-163277</a> || <p>Fat Harry &amp; The Fuzzy Licks brengen eigentijdse blues, stevig geworteld in traditie maar verrijkt met soul, funk en R&amp;B.</p><p>Geen wonder dat Amerikaanse grootheden hen keer op keer vroegen als begeleidingsband tijdens Europese tours. Zo speelde Harry zelfs regelmatig met zijn inspirator Joe Louis Walker, die later ook hun nummer Send You Back opnam.</p><p>De band werkte samen met namen als Preston Shannon, Henry Oden, Kat Riggins, John Primer en Robbin Kapsalis. In 2014 won saxofonist Jan de Ligt een Dutch Blues Award, en tot zijn plotselinge overlijden in 2024 was hij bijna 30 jaar lang een drijvende kracht binnen de band.</p><p>Vandaag zetten Fat Harry &amp; The Fuzzy Licks zijn erfenis voort met nieuw materiaal vol diversiteit en originals, aangevuld met toetsenist David Franco.</p><p>Line-up: Fat Harry Dorth – gitaar/zang; Jacco van den Heuvel – drums; David Franco – keyboards; Remko Deijl – bas; sax – t.b.a.</p>
LAST-MODIFIED:20260425T220940Z
LOCATION: Poppodium Boerderij | Amerikaweg 145 Zoetermeer
SEQUENCE:0
STATUS:CONFIRMED
SUMMARY:Blues op Zondagmiddag met Fat Harry & The Fuzzy Licks @Podiumcafé Boerderij
TRANSP:OPAQUE
END:VEVENT
END:VCALENDAR
