BEGIN:VCALENDAR
PRODID:-//PUBBLE//agenda//NL
VERSION:2.0
METHOD:PUBLISH
BEGIN:VEVENT
DTSTART:20260612T173000Z
DTEND:20260612T213000Z
DTSTAMP:20260425T220655Z
UID:406997a5-9b7d-4e7c-b429-1e940f2da62a
CREATED:20260425T220655Z
NAME:Saturday Night Special - A Celebration of the Music of Lynyrd Skynyrd streekbladzoetermeer.nl
X-WR-CALNAME:Saturday Night Special - A Celebration of the Music of Lynyrd Skynyrd
X-ALT-DESC;FMTTYPE=text/html:<a href='/agenda/2026/6/12/saturday-night-special-a-celebration-of-the-music-of-lynyrd-skynyrd-163002'>/agenda/2026/6/12/saturday-night-special-a-celebration-of-the-music-of-lynyrd-skynyrd-163002</a> || <p>Een meer dan geweldige show die je meeneemt door de rijke historie van Lynyrd Skynyrd. Deze negenkoppige band brengt de ware Southern Rock sound en sfeer tot leven!&nbsp;</p><p>Zanger en Southern Rock-liefhebber van het eerste uur, Robert Soeterboek, brengt een topformatie van muzikanten mee.&nbsp;Mis dit eerbetoon aan een legendarische band niet – een avond vol energie, nostalgie en echte Southern Rock.</p><p>Bezetting: Robert Soeterboek – zang; Jane Goulding (Plan Nine / Livin’ Blues) – backing vocals; Anoushka Wolff (Livin’ Blues) – backing vocals; Rowdy Prins (Hannah Mae / Mooi Wark) – gitaar; Eddy Bopp (Vandale) – gitaar; Jeffrey Mighelsen – gitaar; Jaimie van Hek (Sue the Night) – bas; Koen Herfst (Plan Nine / Vandenberg) – drums; Willem Hoving (Plan Nine) – toetsen</p>
DESCRIPTION:<a href='/agenda/2026/6/12/saturday-night-special-a-celebration-of-the-music-of-lynyrd-skynyrd-163002'>/agenda/2026/6/12/saturday-night-special-a-celebration-of-the-music-of-lynyrd-skynyrd-163002</a> || <p>Een meer dan geweldige show die je meeneemt door de rijke historie van Lynyrd Skynyrd. Deze negenkoppige band brengt de ware Southern Rock sound en sfeer tot leven!&nbsp;</p><p>Zanger en Southern Rock-liefhebber van het eerste uur, Robert Soeterboek, brengt een topformatie van muzikanten mee.&nbsp;Mis dit eerbetoon aan een legendarische band niet – een avond vol energie, nostalgie en echte Southern Rock.</p><p>Bezetting: Robert Soeterboek – zang; Jane Goulding (Plan Nine / Livin’ Blues) – backing vocals; Anoushka Wolff (Livin’ Blues) – backing vocals; Rowdy Prins (Hannah Mae / Mooi Wark) – gitaar; Eddy Bopp (Vandale) – gitaar; Jeffrey Mighelsen – gitaar; Jaimie van Hek (Sue the Night) – bas; Koen Herfst (Plan Nine / Vandenberg) – drums; Willem Hoving (Plan Nine) – toetsen</p>
LAST-MODIFIED:20260425T220655Z
LOCATION: Poppodium Boerderij | Amerikaweg 145 Zoetermeer
SEQUENCE:0
STATUS:CONFIRMED
SUMMARY:Saturday Night Special - A Celebration of the Music of Lynyrd Skynyrd
TRANSP:OPAQUE
END:VEVENT
END:VCALENDAR
