BEGIN:VCALENDAR
PRODID:-//PUBBLE//agenda//NL
VERSION:2.0
METHOD:PUBLISH
BEGIN:VEVENT
DTSTART:20251105T173000Z
DTEND:20251105T193000Z
DTSTAMP:20260425T164958Z
UID:a16a8c0d-e717-47e3-ab43-0c8aab755483
CREATED:20260425T164958Z
NAME:Digitaal tekenen op de IPad met Procreate streekbladzoetermeer.nl
X-WR-CALNAME:Digitaal tekenen op de IPad met Procreate
X-ALT-DESC;FMTTYPE=text/html:<a href='/agenda/2025/11/5/digitaal-tekenen-op-de-ipad-met-procreate-162733'>/agenda/2025/11/5/digitaal-tekenen-op-de-ipad-met-procreate-162733</a> || <p>Altijd al willen tekenen op je iPad, maar weet je niet waar te beginnen? Of wil je meer uit Procreate halen? Dan is deze workshop iets voor jou!&nbsp;</p><p>Op 5 november neemt Brenda Bakker, bekend als @dekwebbel op Instagram en YouTube – je mee in een inspirerende én praktische workshop: “Tekenen met Procreate”.&nbsp;</p><p>In 2 uur leer je op een ontspannen manier hoe je stap voor stap een illustratie opbouwt. Brenda laat je haar technieken en workflow zien, zodat jij daarna vol vertrouwen je eigen stijl kunt ontwikkelen.&nbsp;</p><p>Voor wie? Beginners en half-gevorderden met nieuwsgierigheid en zin om creatief aan de slag te gaan.&nbsp;</p><p>Wat neem je mee?</p><p>– iPad met Procreate&nbsp;</p><p>– Apple Pencil&nbsp;</p><p>– Eventueel een oplader én je goede humeur!&nbsp;</p><p>Aanmelden via bibliotheek-zoetermeer.nl</p>
DESCRIPTION:<a href='/agenda/2025/11/5/digitaal-tekenen-op-de-ipad-met-procreate-162733'>/agenda/2025/11/5/digitaal-tekenen-op-de-ipad-met-procreate-162733</a> || <p>Altijd al willen tekenen op je iPad, maar weet je niet waar te beginnen? Of wil je meer uit Procreate halen? Dan is deze workshop iets voor jou!&nbsp;</p><p>Op 5 november neemt Brenda Bakker, bekend als @dekwebbel op Instagram en YouTube – je mee in een inspirerende én praktische workshop: “Tekenen met Procreate”.&nbsp;</p><p>In 2 uur leer je op een ontspannen manier hoe je stap voor stap een illustratie opbouwt. Brenda laat je haar technieken en workflow zien, zodat jij daarna vol vertrouwen je eigen stijl kunt ontwikkelen.&nbsp;</p><p>Voor wie? Beginners en half-gevorderden met nieuwsgierigheid en zin om creatief aan de slag te gaan.&nbsp;</p><p>Wat neem je mee?</p><p>– iPad met Procreate&nbsp;</p><p>– Apple Pencil&nbsp;</p><p>– Eventueel een oplader én je goede humeur!&nbsp;</p><p>Aanmelden via bibliotheek-zoetermeer.nl</p>
LAST-MODIFIED:20260425T164958Z
LOCATION: Forum/Bibliotheek | Stadhuisplein 1 Zoetermeer
SEQUENCE:0
STATUS:CONFIRMED
SUMMARY:Digitaal tekenen op de IPad met Procreate
TRANSP:OPAQUE
END:VEVENT
END:VCALENDAR
