BEGIN:VCALENDAR
PRODID:-//PUBBLE//agenda//NL
VERSION:2.0
METHOD:PUBLISH
BEGIN:VEVENT
DTSTART:20260502T173000Z
DTEND:20260502T213000Z
DTSTAMP:20260425T220128Z
UID:c1835265-2b7e-4885-8613-44e6e48aa207
CREATED:20260425T220128Z
NAME:Wishbone Ash streekbladzoetermeer.nl
X-WR-CALNAME:Wishbone Ash
X-ALT-DESC;FMTTYPE=text/html:<a href='/agenda/2026/5/2/wishbone-ash-161679'>/agenda/2026/5/2/wishbone-ash-161679</a> || <p>Op deze avond verwelkomen we de legendarische rockband Wishbone Ash bij de Boerderij! Deze iconische band staat bekend om hun invloedrijke mix van rock en folk, en hun kenmerkende gitaarsound. Een avond vol nostalgie en tijdloze klassiekers voor alle liefhebbers van goede muziek.</p><p>Wishbone Ash, opgericht in 1969 in Engeland, is een van de meest invloedrijke bands in de rockgeschiedenis. Met hun innovatieve dubbele gitaarstijl en energieke optredens hebben ze talloze fans over de hele wereld weten te betoveren. Andy Powell, de oprichter en leadgitarist, blijft de drijvende kracht achter de band en zorgt voor een authentieke en meeslepende muzikale ervaring. Met een rijke discografie en een passie voor live performance, blijft Wishbone Ash een onmisbare naam in de rockscene.</p>
DESCRIPTION:<a href='/agenda/2026/5/2/wishbone-ash-161679'>/agenda/2026/5/2/wishbone-ash-161679</a> || <p>Op deze avond verwelkomen we de legendarische rockband Wishbone Ash bij de Boerderij! Deze iconische band staat bekend om hun invloedrijke mix van rock en folk, en hun kenmerkende gitaarsound. Een avond vol nostalgie en tijdloze klassiekers voor alle liefhebbers van goede muziek.</p><p>Wishbone Ash, opgericht in 1969 in Engeland, is een van de meest invloedrijke bands in de rockgeschiedenis. Met hun innovatieve dubbele gitaarstijl en energieke optredens hebben ze talloze fans over de hele wereld weten te betoveren. Andy Powell, de oprichter en leadgitarist, blijft de drijvende kracht achter de band en zorgt voor een authentieke en meeslepende muzikale ervaring. Met een rijke discografie en een passie voor live performance, blijft Wishbone Ash een onmisbare naam in de rockscene.</p>
LAST-MODIFIED:20260425T220128Z
LOCATION: Poppodium Boerderij | Amerikaweg 145 Zoetermeer
SEQUENCE:0
STATUS:CONFIRMED
SUMMARY:Wishbone Ash
TRANSP:OPAQUE
END:VEVENT
END:VCALENDAR
