BEGIN:VCALENDAR
PRODID:-//PUBBLE//agenda//NL
VERSION:2.0
METHOD:PUBLISH
BEGIN:VEVENT
DTSTART:20241106T103000Z
DTEND:20241106T123000Z
DTSTAMP:20260421T091130Z
UID:7b9cf4cc-5873-4eef-97bf-b85df4696be8
CREATED:20260421T091130Z
NAME:Workshop | Actief omgaan met piekeren streekbladzoetermeer.nl
X-WR-CALNAME:Workshop | Actief omgaan met piekeren
X-ALT-DESC;FMTTYPE=text/html:<a href='/agenda/2024/11/6/workshop-actief-omgaan-met-piekeren-156469'>/agenda/2024/11/6/workshop-actief-omgaan-met-piekeren-156469</a> || <p><strong>Wanneer en hoe laat?</strong></p><p>Woensdag 6 november, 12.30 - 14.30 uur</p><p><strong>Wat gaan we doen?</strong></p><p>Een eenmalige bijeenkomst van twee uur waarin je inzicht krijgt in het verschil tussen nadenken en piekeren. Daarnaast krijg je een techniek aangereikt die uitnodigt om actief met piekeren aan de slag te gaan.</p><p><strong>Wat kost het?</strong></p><p>&nbsp;Deelname aan deze workshop is kosteloos.</p><p><strong><br></strong></p><p><strong>Aanmelding en/of meer informatie:</strong></p><p>- InZet, locatie Buytenwegh - De Leyens, 079 888 19 28&nbsp;</p><p>- Aanmelden kan ook online: www.indigowest.nl/e/activiteit/285769/672211</p><p><strong>Inhoudelijke vragen?</strong></p><p>Bas Odems, b.odems@indigohaaglanden.nl, 06 17 64 29 05</p><p>preventiedeskundige &amp; coördinator GGZ Preventie | Indigo Preventie</p>
DESCRIPTION:<a href='/agenda/2024/11/6/workshop-actief-omgaan-met-piekeren-156469'>/agenda/2024/11/6/workshop-actief-omgaan-met-piekeren-156469</a> || <p><strong>Wanneer en hoe laat?</strong></p><p>Woensdag 6 november, 12.30 - 14.30 uur</p><p><strong>Wat gaan we doen?</strong></p><p>Een eenmalige bijeenkomst van twee uur waarin je inzicht krijgt in het verschil tussen nadenken en piekeren. Daarnaast krijg je een techniek aangereikt die uitnodigt om actief met piekeren aan de slag te gaan.</p><p><strong>Wat kost het?</strong></p><p>&nbsp;Deelname aan deze workshop is kosteloos.</p><p><strong><br></strong></p><p><strong>Aanmelding en/of meer informatie:</strong></p><p>- InZet, locatie Buytenwegh - De Leyens, 079 888 19 28&nbsp;</p><p>- Aanmelden kan ook online: www.indigowest.nl/e/activiteit/285769/672211</p><p><strong>Inhoudelijke vragen?</strong></p><p>Bas Odems, b.odems@indigohaaglanden.nl, 06 17 64 29 05</p><p>preventiedeskundige &amp; coördinator GGZ Preventie | Indigo Preventie</p>
LAST-MODIFIED:20260421T091130Z
LOCATION: inZet Buytenwegh - De Leyens | César Franckrode 64 Zoetermeer
SEQUENCE:0
STATUS:CONFIRMED
SUMMARY:Workshop | Actief omgaan met piekeren
TRANSP:OPAQUE
END:VEVENT
END:VCALENDAR
