BEGIN:VCALENDAR
PRODID:-//PUBBLE//agenda//NL
VERSION:2.0
METHOD:PUBLISH
BEGIN:VEVENT
DTSTART:20220910T143000Z
DTEND:20220910T210000Z
DTSTAMP:20260426T022714Z
UID:f85b53dd-b24c-473f-9374-526356b1625f
CREATED:20260426T022714Z
NAME:Zomaar Café Lautrec, een nieuw festival in Zoetermeer streekbladzoetermeer.nl
X-WR-CALNAME:Zomaar Café Lautrec, een nieuw festival in Zoetermeer
X-ALT-DESC;FMTTYPE=text/html:<a href='/agenda/2022/9/10/zomaar-cafe-lautrec-een-nieuw-festival-in-zoetermeer-139512'>/agenda/2022/9/10/zomaar-cafe-lautrec-een-nieuw-festival-in-zoetermeer-139512</a> || <p>Zaterdag 10 september, Zomaar Café Lautrec, het nieuwe festival van Zoetermeer. Het idee van “Zomaar” komt uit de tijd dat weinig mogelijk was vanwege Corona. We gaan “zomaar” iets leuks organiseren, iedereen kan wel wat gezelligheid gebruiken! Helaas heeft dat vorig jaar niet plaats kunnen vinden. Nu gelukkig wel!</p><p>Zomaar een gezellig festival om weer samen te zijn en samen er een feestje van te maken!</p><p>Met optredens van Jeffrey Kuipers, Harry van Bergenhenegouwen, Jan Schneider, Jordy Carrero, Jamie Young, Hermano, Side Kick en meer!</p><p>Gratis toegang voor iedereen!&nbsp;</p><p>Foodtrucks zijn aanwezig, de bar is goed gevuld en we hebben top entertainment.</p><p>Het festival zal plaatsvinden op de parkeerplaats achter Café Lautrec.</p>
DESCRIPTION:<a href='/agenda/2022/9/10/zomaar-cafe-lautrec-een-nieuw-festival-in-zoetermeer-139512'>/agenda/2022/9/10/zomaar-cafe-lautrec-een-nieuw-festival-in-zoetermeer-139512</a> || <p>Zaterdag 10 september, Zomaar Café Lautrec, het nieuwe festival van Zoetermeer. Het idee van “Zomaar” komt uit de tijd dat weinig mogelijk was vanwege Corona. We gaan “zomaar” iets leuks organiseren, iedereen kan wel wat gezelligheid gebruiken! Helaas heeft dat vorig jaar niet plaats kunnen vinden. Nu gelukkig wel!</p><p>Zomaar een gezellig festival om weer samen te zijn en samen er een feestje van te maken!</p><p>Met optredens van Jeffrey Kuipers, Harry van Bergenhenegouwen, Jan Schneider, Jordy Carrero, Jamie Young, Hermano, Side Kick en meer!</p><p>Gratis toegang voor iedereen!&nbsp;</p><p>Foodtrucks zijn aanwezig, de bar is goed gevuld en we hebben top entertainment.</p><p>Het festival zal plaatsvinden op de parkeerplaats achter Café Lautrec.</p>
LAST-MODIFIED:20260426T022714Z
LOCATION: Café Lautrec | Leidsewallen 44 Zoetermeer
SEQUENCE:0
STATUS:CONFIRMED
SUMMARY:Zomaar Café Lautrec, een nieuw festival in Zoetermeer
TRANSP:OPAQUE
END:VEVENT
END:VCALENDAR
